BEGIN:VCALENDAR
VERSION:2.0
PRODID:-//85.13.157.133//NONSGML kigkonsult.se iCalcreator 2.20//
CALSCALE:GREGORIAN
METHOD:PUBLISH
X-WR-TIMEZONE:Europe/Berlin
BEGIN:VEVENT
UID:event6@NaturFreunde Bielefeld e.V.
DTSTAMP:20260421T103333Z
CATEGORIES:Senioren
DESCRIPTION:Senioren-Kaffeeklön\nKategorie: Senioren\nICS-Link: https://nat
 urfreunde-bielefeld.de/index.php?option=com_jem&view=event&id=6:senioren-k
 affeekloen\n
DTSTART;VALUE=DATE:20250903
DTEND;VALUE=DATE:20250904
SUMMARY:Senioren-Kaffeeklön
URL:https://naturfreunde-bielefeld.de/index.php?option=com_jem&view=event&i
 d=6:senioren-kaffeekloen
END:VEVENT
END:VCALENDAR