BEGIN:VCALENDAR
VERSION:2.0
PRODID:-//85.13.157.133//NONSGML kigkonsult.se iCalcreator 2.20//
CALSCALE:GREGORIAN
METHOD:PUBLISH
X-WR-TIMEZONE:Europe/Berlin
BEGIN:VEVENT
UID:event46@NaturFreunde Bielefeld e.V.
DTSTAMP:20260421T122017Z
CATEGORIES:Kultur
DESCRIPTION:Frieden in Bewegung 2025\nKategorie: Kultur\nICS-Link: https://
 naturfreunde-bielefeld.de/index.php?option=com_jem&view=event&id=46:friede
 n-in-bewegung-2025\n
DTSTART;VALUE=DATE:20251114
DTEND;VALUE=DATE:20251115
SUMMARY:Frieden in Bewegung 2025
URL:https://naturfreunde-bielefeld.de/index.php?option=com_jem&view=event&i
 d=46:frieden-in-bewegung-2025
END:VEVENT
END:VCALENDAR