BEGIN:VCALENDAR
VERSION:2.0
PRODID:-//85.13.157.133//NONSGML kigkonsult.se iCalcreator 2.20//
CALSCALE:GREGORIAN
METHOD:PUBLISH
X-WR-TIMEZONE:Europe/Berlin
BEGIN:VEVENT
UID:event22@NaturFreunde Bielefeld e.V.
DTSTAMP:20260421T103807Z
CATEGORIES:Kanu
DESCRIPTION:Abpaddeln\nKategorie: Kanu\nICS-Link: https://naturfreunde-biel
 efeld.de/index.php?option=com_jem&view=event&id=22:abpaddeln\n
DTSTART;VALUE=DATE:20250927
DTEND;VALUE=DATE:20250928
SUMMARY:Abpaddeln
URL:https://naturfreunde-bielefeld.de/index.php?option=com_jem&view=event&i
 d=22:abpaddeln
END:VEVENT
END:VCALENDAR