BEGIN:VCALENDAR
VERSION:2.0
PRODID:-//85.13.157.133//NONSGML kigkonsult.se iCalcreator 2.20//
CALSCALE:GREGORIAN
METHOD:PUBLISH
X-WR-TIMEZONE:Europe/Berlin
BEGIN:VEVENT
UID:event21@NaturFreunde Bielefeld e.V.
DTSTAMP:20260419T085026Z
CATEGORIES:Kultur
DESCRIPTION:Flammkuchen und Weinprobe\nKategorie: Kultur\nICS-Link: https:/
 /naturfreunde-bielefeld.de/index.php?option=com_jem&view=event&id=21:flamm
 kuchen-und-weinprobe\n
DTSTART;VALUE=DATE:20250926
DTEND;VALUE=DATE:20250927
SUMMARY:Flammkuchen und Weinprobe
URL:https://naturfreunde-bielefeld.de/index.php?option=com_jem&view=event&i
 d=21:flammkuchen-und-weinprobe
END:VEVENT
END:VCALENDAR