BEGIN:VCALENDAR
VERSION:2.0
PRODID:-//85.13.157.133//NONSGML kigkonsult.se iCalcreator 2.20//
CALSCALE:GREGORIAN
METHOD:PUBLISH
X-WR-TIMEZONE:Europe/Berlin
BEGIN:VEVENT
UID:event135@NaturFreunde Bielefeld e.V.
DTSTAMP:20260423T181735Z
CATEGORIES:Ortsgruppe
DESCRIPTION:Kreativtage im NFH Oerlinghausen\nKategorie: Ortsgruppe\nICS-Li
 nk: https://naturfreunde-bielefeld.de/index.php?option=com_jem&view=event&
 id=135:kreativtage-im-nfh-oerlinghausen\n
DTSTART;VALUE=DATE:20260824
DTEND;VALUE=DATE:20260829
SUMMARY:Kreativtage im NFH Oerlinghausen
URL:https://naturfreunde-bielefeld.de/index.php?option=com_jem&view=event&i
 d=135:kreativtage-im-nfh-oerlinghausen
END:VEVENT
END:VCALENDAR