BEGIN:VCALENDAR
VERSION:2.0
PRODID:-//85.13.157.133//NONSGML kigkonsult.se iCalcreator 2.20//
CALSCALE:GREGORIAN
METHOD:PUBLISH
X-WR-TIMEZONE:Europe/Berlin
BEGIN:VEVENT
UID:event34@NaturFreunde Bielefeld e.V.
DTSTAMP:20260420T104315Z
CATEGORIES:Nordic Walking
DESCRIPTION:Nordic Walking im Schopketal\nKategorie: Nordic Walking\nICS-Li
 nk: https://naturfreunde-bielefeld.de/index.php?option=com_jem&view=event&
 id=34:nordic-walking-im-schopketal\n
DTSTART;VALUE=DATE:20251019
DTEND;VALUE=DATE:20251020
SUMMARY:Nordic Walking im Schopketal
URL:https://naturfreunde-bielefeld.de/index.php?option=com_jem&view=event&i
 d=34:nordic-walking-im-schopketal
END:VEVENT
END:VCALENDAR