BEGIN:VCALENDAR
VERSION:2.0
PRODID:-//85.13.157.133//NONSGML kigkonsult.se iCalcreator 2.20//
CALSCALE:GREGORIAN
METHOD:PUBLISH
X-WR-TIMEZONE:Europe/Berlin
BEGIN:VEVENT
UID:event32@NaturFreunde Bielefeld e.V.
DTSTAMP:20260423T043543Z
CATEGORIES:Senioren
DESCRIPTION:Seniorenspaziergang\nKategorie: Senioren\nICS-Link: https://nat
 urfreunde-bielefeld.de/index.php?option=com_jem&view=event&id=32:seniorens
 paziergang\n
DTSTART;VALUE=DATE:20251015
DTEND;VALUE=DATE:20251016
SUMMARY:Seniorenspaziergang
URL:https://naturfreunde-bielefeld.de/index.php?option=com_jem&view=event&i
 d=32:seniorenspaziergang
END:VEVENT
END:VCALENDAR